BEGIN:VCALENDAR
VERSION:2.0
PRODID:-//Die stärkste Hand im Havelland! - ECPv6.15.20//NONSGML v1.0//EN
CALSCALE:GREGORIAN
METHOD:PUBLISH
X-ORIGINAL-URL:https://handball-in-werder.de
X-WR-CALDESC:Veranstaltungen für Die stärkste Hand im Havelland!
REFRESH-INTERVAL;VALUE=DURATION:PT1H
X-Robots-Tag:noindex
X-PUBLISHED-TTL:PT1H
BEGIN:VTIMEZONE
TZID:Europe/Berlin
BEGIN:DAYLIGHT
TZOFFSETFROM:+0100
TZOFFSETTO:+0200
TZNAME:CEST
DTSTART:20240331T010000
END:DAYLIGHT
BEGIN:STANDARD
TZOFFSETFROM:+0200
TZOFFSETTO:+0100
TZNAME:CET
DTSTART:20241027T010000
END:STANDARD
BEGIN:DAYLIGHT
TZOFFSETFROM:+0100
TZOFFSETTO:+0200
TZNAME:CEST
DTSTART:20250330T010000
END:DAYLIGHT
BEGIN:STANDARD
TZOFFSETFROM:+0200
TZOFFSETTO:+0100
TZNAME:CET
DTSTART:20251026T010000
END:STANDARD
BEGIN:DAYLIGHT
TZOFFSETFROM:+0100
TZOFFSETTO:+0200
TZNAME:CEST
DTSTART:20260329T010000
END:DAYLIGHT
BEGIN:STANDARD
TZOFFSETFROM:+0200
TZOFFSETTO:+0100
TZNAME:CET
DTSTART:20261025T010000
END:STANDARD
END:VTIMEZONE
BEGIN:VEVENT
DTSTART;VALUE=DATE:20251206
DTEND;VALUE=DATE:20251207
DTSTAMP:20260419T213430
CREATED:20251020T100043Z
LAST-MODIFIED:20251020T100043Z
UID:189-1764979200-1765065599@handball-in-werder.de
SUMMARY:Nikolaus
DESCRIPTION:Hallo allerseits\, heute gibts was in die Schuhe!
URL:https://handball-in-werder.de/event/nikolaus/
END:VEVENT
BEGIN:VEVENT
DTSTART;TZID=Europe/Berlin:20251206T160000
DTEND;TZID=Europe/Berlin:20251206T180000
DTSTAMP:20260419T213430
CREATED:20251201T100511Z
LAST-MODIFIED:20251201T100511Z
UID:1043-1765036800-1765044000@handball-in-werder.de
SUMMARY:BFC Preussen vs. 1. Frauen
DESCRIPTION:
URL:https://handball-in-werder.de/event/bfc-preussen-vs-1-frauen/
LOCATION:Kiriat-Bialik-Sporthalle\, Wedellstraße 57\, Berlin\, 12249\, Germany
END:VEVENT
BEGIN:VEVENT
DTSTART;TZID=Europe/Berlin:20251206T180000
DTEND;TZID=Europe/Berlin:20251206T200000
DTSTAMP:20260419T213430
CREATED:20251123T163950Z
LAST-MODIFIED:20251123T163950Z
UID:977-1765044000-1765051200@handball-in-werder.de
SUMMARY:TSG Lübbenau 63 vs. 1. Männer
DESCRIPTION:
URL:https://handball-in-werder.de/event/tsg-luebbenau-63-vs-1-maenner/
LOCATION:Sporthalle Gelb-Blau-Arena\, Otto-Grotewohl-Strasse 17a\, Lübbenau\, 03222
END:VEVENT
END:VCALENDAR