BEGIN:VCALENDAR
VERSION:2.0
PRODID:-//Die stärkste Hand im Havelland! - ECPv6.15.20//NONSGML v1.0//EN
CALSCALE:GREGORIAN
METHOD:PUBLISH
X-ORIGINAL-URL:https://handball-in-werder.de
X-WR-CALDESC:Veranstaltungen für Die stärkste Hand im Havelland!
REFRESH-INTERVAL;VALUE=DURATION:PT1H
X-Robots-Tag:noindex
X-PUBLISHED-TTL:PT1H
BEGIN:VTIMEZONE
TZID:Europe/Berlin
BEGIN:DAYLIGHT
TZOFFSETFROM:+0100
TZOFFSETTO:+0200
TZNAME:CEST
DTSTART:20250330T010000
END:DAYLIGHT
BEGIN:STANDARD
TZOFFSETFROM:+0200
TZOFFSETTO:+0100
TZNAME:CET
DTSTART:20251026T010000
END:STANDARD
BEGIN:DAYLIGHT
TZOFFSETFROM:+0100
TZOFFSETTO:+0200
TZNAME:CEST
DTSTART:20260329T010000
END:DAYLIGHT
BEGIN:STANDARD
TZOFFSETFROM:+0200
TZOFFSETTO:+0100
TZNAME:CET
DTSTART:20261025T010000
END:STANDARD
BEGIN:DAYLIGHT
TZOFFSETFROM:+0100
TZOFFSETTO:+0200
TZNAME:CEST
DTSTART:20270328T010000
END:DAYLIGHT
BEGIN:STANDARD
TZOFFSETFROM:+0200
TZOFFSETTO:+0100
TZNAME:CET
DTSTART:20271031T010000
END:STANDARD
END:VTIMEZONE
BEGIN:VEVENT
DTSTART;TZID=Europe/Berlin:20260124T170000
DTEND;TZID=Europe/Berlin:20260124T190000
DTSTAMP:20260419T195303
CREATED:20251201T095542Z
LAST-MODIFIED:20251201T095542Z
UID:1023-1769274000-1769281200@handball-in-werder.de
SUMMARY:1. Frauen vs. Stavenhagener SV von 1863 
DESCRIPTION:
URL:https://handball-in-werder.de/event/1-frauen-vs-stavenhagener-sv-von-1863/
LOCATION:Sporthalle am Ernst-Häckel-Gymnasium\, Werder (Havel)
END:VEVENT
BEGIN:VEVENT
DTSTART;TZID=Europe/Berlin:20260124T193000
DTEND;TZID=Europe/Berlin:20260124T213000
DTSTAMP:20260419T195303
CREATED:20251123T161537Z
LAST-MODIFIED:20251123T161537Z
UID:948-1769283000-1769290200@handball-in-werder.de
SUMMARY:1. Männer vs. SG Uni Greifswald / Loitz 
DESCRIPTION:
URL:https://handball-in-werder.de/event/1-maenner-vs-sg-uni-greifswald-loitz/
LOCATION:Sporthalle am Ernst-Häckel-Gymnasium\, Werder (Havel)
END:VEVENT
END:VCALENDAR