BEGIN:VCALENDAR
VERSION:2.0
PRODID:-//Die stärkste Hand im Havelland! - ECPv6.15.20//NONSGML v1.0//EN
CALSCALE:GREGORIAN
METHOD:PUBLISH
X-ORIGINAL-URL:https://handball-in-werder.de
X-WR-CALDESC:Veranstaltungen für Die stärkste Hand im Havelland!
REFRESH-INTERVAL;VALUE=DURATION:PT1H
X-Robots-Tag:noindex
X-PUBLISHED-TTL:PT1H
BEGIN:VTIMEZONE
TZID:Europe/Berlin
BEGIN:DAYLIGHT
TZOFFSETFROM:+0100
TZOFFSETTO:+0200
TZNAME:CEST
DTSTART:20250330T010000
END:DAYLIGHT
BEGIN:STANDARD
TZOFFSETFROM:+0200
TZOFFSETTO:+0100
TZNAME:CET
DTSTART:20251026T010000
END:STANDARD
BEGIN:DAYLIGHT
TZOFFSETFROM:+0100
TZOFFSETTO:+0200
TZNAME:CEST
DTSTART:20260329T010000
END:DAYLIGHT
BEGIN:STANDARD
TZOFFSETFROM:+0200
TZOFFSETTO:+0100
TZNAME:CET
DTSTART:20261025T010000
END:STANDARD
BEGIN:DAYLIGHT
TZOFFSETFROM:+0100
TZOFFSETTO:+0200
TZNAME:CEST
DTSTART:20270328T010000
END:DAYLIGHT
BEGIN:STANDARD
TZOFFSETFROM:+0200
TZOFFSETTO:+0100
TZNAME:CET
DTSTART:20271031T010000
END:STANDARD
END:VTIMEZONE
BEGIN:VEVENT
DTSTART;TZID=Europe/Berlin:20260222T170000
DTEND;TZID=Europe/Berlin:20260222T190000
DTSTAMP:20260419T181216
CREATED:20251123T164424Z
LAST-MODIFIED:20251123T164424Z
UID:986-1771779600-1771786800@handball-in-werder.de
SUMMARY:HC Empor Rostock II vs. 1. Männer
DESCRIPTION:
URL:https://handball-in-werder.de/event/hc-empor-rostock-ii-vs-1-maenner/
LOCATION:Fiete-Reder-Sporthalle\, Marieneher Str. 4\, Rostock\, 18069
END:VEVENT
END:VCALENDAR