BEGIN:VCALENDAR
VERSION:2.0
PRODID:-//Die stärkste Hand im Havelland! - ECPv6.15.20//NONSGML v1.0//EN
CALSCALE:GREGORIAN
METHOD:PUBLISH
X-WR-CALNAME:Die stärkste Hand im Havelland!
X-ORIGINAL-URL:https://handball-in-werder.de
X-WR-CALDESC:Veranstaltungen für Die stärkste Hand im Havelland!
REFRESH-INTERVAL;VALUE=DURATION:PT1H
X-Robots-Tag:noindex
X-PUBLISHED-TTL:PT1H
BEGIN:VTIMEZONE
TZID:Europe/Berlin
BEGIN:DAYLIGHT
TZOFFSETFROM:+0100
TZOFFSETTO:+0200
TZNAME:CEST
DTSTART:20250330T010000
END:DAYLIGHT
BEGIN:STANDARD
TZOFFSETFROM:+0200
TZOFFSETTO:+0100
TZNAME:CET
DTSTART:20251026T010000
END:STANDARD
BEGIN:DAYLIGHT
TZOFFSETFROM:+0100
TZOFFSETTO:+0200
TZNAME:CEST
DTSTART:20260329T010000
END:DAYLIGHT
BEGIN:STANDARD
TZOFFSETFROM:+0200
TZOFFSETTO:+0100
TZNAME:CET
DTSTART:20261025T010000
END:STANDARD
BEGIN:DAYLIGHT
TZOFFSETFROM:+0100
TZOFFSETTO:+0200
TZNAME:CEST
DTSTART:20270328T010000
END:DAYLIGHT
BEGIN:STANDARD
TZOFFSETFROM:+0200
TZOFFSETTO:+0100
TZNAME:CET
DTSTART:20271031T010000
END:STANDARD
END:VTIMEZONE
BEGIN:VEVENT
DTSTART;TZID=Europe/Berlin:20260724T140000
DTEND;TZID=Europe/Berlin:20260724T220000
DTSTAMP:20260419T192619
CREATED:20260212T112709Z
LAST-MODIFIED:20260324T165934Z
UID:1568-1784901600-1784930400@handball-in-werder.de
SUMMARY:80 Jahre HV Grün- Weiß Werder
DESCRIPTION:
URL:https://handball-in-werder.de/event/halleneroeffnung-und-80-jahre-hv-gruen-weiss-werder/
LOCATION:Sporthalle am Ernst-Häckel-Gymnasium\, Werder (Havel)
END:VEVENT
END:VCALENDAR