BEGIN:VCALENDAR
VERSION:2.0
PRODID:-//Die stärkste Hand im Havelland! - ECPv6.15.20//NONSGML v1.0//EN
CALSCALE:GREGORIAN
METHOD:PUBLISH
X-WR-CALNAME:Die stärkste Hand im Havelland!
X-ORIGINAL-URL:https://handball-in-werder.de
X-WR-CALDESC:Veranstaltungen für Die stärkste Hand im Havelland!
REFRESH-INTERVAL;VALUE=DURATION:PT1H
X-Robots-Tag:noindex
X-PUBLISHED-TTL:PT1H
BEGIN:VTIMEZONE
TZID:Europe/Berlin
BEGIN:DAYLIGHT
TZOFFSETFROM:+0100
TZOFFSETTO:+0200
TZNAME:CEST
DTSTART:20240331T010000
END:DAYLIGHT
BEGIN:STANDARD
TZOFFSETFROM:+0200
TZOFFSETTO:+0100
TZNAME:CET
DTSTART:20241027T010000
END:STANDARD
BEGIN:DAYLIGHT
TZOFFSETFROM:+0100
TZOFFSETTO:+0200
TZNAME:CEST
DTSTART:20250330T010000
END:DAYLIGHT
BEGIN:STANDARD
TZOFFSETFROM:+0200
TZOFFSETTO:+0100
TZNAME:CET
DTSTART:20251026T010000
END:STANDARD
BEGIN:DAYLIGHT
TZOFFSETFROM:+0100
TZOFFSETTO:+0200
TZNAME:CEST
DTSTART:20260329T010000
END:DAYLIGHT
BEGIN:STANDARD
TZOFFSETFROM:+0200
TZOFFSETTO:+0100
TZNAME:CET
DTSTART:20261025T010000
END:STANDARD
END:VTIMEZONE
BEGIN:VEVENT
DTSTART;TZID=Europe/Berlin:20250913T170000
DTEND;TZID=Europe/Berlin:20250913T190000
DTSTAMP:20260420T011250
CREATED:20251201T095058Z
LAST-MODIFIED:20251201T095058Z
UID:1009-1757782800-1757790000@handball-in-werder.de
SUMMARY:1. Frauen vs. Stralsunder HV 
DESCRIPTION:
URL:https://handball-in-werder.de/event/1-frauen-vs-stralsunder-hv/
LOCATION:Sporthalle am Ernst-Häckel-Gymnasium\, Werder (Havel)
END:VEVENT
BEGIN:VEVENT
DTSTART;TZID=Europe/Berlin:20250913T193000
DTEND;TZID=Europe/Berlin:20250913T213000
DTSTAMP:20260420T011250
CREATED:20251123T160350Z
LAST-MODIFIED:20251123T161121Z
UID:931-1757791800-1757799000@handball-in-werder.de
SUMMARY:1. Männer  vs. Lausitzer HC Cottbus 
DESCRIPTION:28:26
URL:https://handball-in-werder.de/event/1-maenner-vs-lausitzer-hc-cottbus/
LOCATION:Sporthalle am Ernst-Häckel-Gymnasium\, Werder (Havel)
END:VEVENT
BEGIN:VEVENT
DTSTART;TZID=Europe/Berlin:20250920T170000
DTEND;TZID=Europe/Berlin:20250920T190000
DTSTAMP:20260420T011250
CREATED:20251201T095156Z
LAST-MODIFIED:20251201T095156Z
UID:1011-1758387600-1758394800@handball-in-werder.de
SUMMARY:1. Frauen vs. SV Warnemünde 
DESCRIPTION:34:25
URL:https://handball-in-werder.de/event/1-frauen-vs-sv-warnemuende/
LOCATION:Sporthalle am Ernst-Häckel-Gymnasium\, Werder (Havel)
END:VEVENT
BEGIN:VEVENT
DTSTART;TZID=Europe/Berlin:20250920T190000
DTEND;TZID=Europe/Berlin:20250920T210000
DTSTAMP:20260420T011250
CREATED:20251123T160857Z
LAST-MODIFIED:20251123T165139Z
UID:933-1758394800-1758402000@handball-in-werder.de
SUMMARY:SG Uni Greifswald / Loitz vs. 1. Männer
DESCRIPTION:28:30
URL:https://handball-in-werder.de/event/sg-uni-greifswald-loitz-vs-1-maenner/
LOCATION:Peenetal Halle\, Goethestr. 64-65\, 17121 Loitz\, Goethestr. 64-65\, Loitz\, 17121
END:VEVENT
BEGIN:VEVENT
DTSTART;TZID=Europe/Berlin:20250927T183000
DTEND;TZID=Europe/Berlin:20250927T203000
DTSTAMP:20260420T011250
CREATED:20251201T095856Z
LAST-MODIFIED:20251201T101514Z
UID:1031-1758997800-1759005000@handball-in-werder.de
SUMMARY:VfV Spandau vs. 1. Frauen
DESCRIPTION:24:35
URL:https://handball-in-werder.de/event/vfv-spandau-vs-1-frauen/
LOCATION:Sporthalle Falkenseer Damm\, Falkenseer Damm 20\, Berlin\, 13585
END:VEVENT
BEGIN:VEVENT
DTSTART;TZID=Europe/Berlin:20250927T193000
DTEND;TZID=Europe/Berlin:20250927T213000
DTSTAMP:20260420T011250
CREATED:20251123T161043Z
LAST-MODIFIED:20251123T161043Z
UID:936-1759001400-1759008600@handball-in-werder.de
SUMMARY:1. Männer vs. HSV Insel Usedom 
DESCRIPTION:33:22
URL:https://handball-in-werder.de/event/1-maenner-vs-hsv-insel-usedom/
LOCATION:Sporthalle am Ernst-Häckel-Gymnasium\, Werder (Havel)
END:VEVENT
END:VCALENDAR