BEGIN:VCALENDAR
VERSION:2.0
PRODID:-//Die stärkste Hand im Havelland! - ECPv6.15.20//NONSGML v1.0//EN
CALSCALE:GREGORIAN
METHOD:PUBLISH
X-WR-CALNAME:Die stärkste Hand im Havelland!
X-ORIGINAL-URL:https://handball-in-werder.de
X-WR-CALDESC:Veranstaltungen für Die stärkste Hand im Havelland!
REFRESH-INTERVAL;VALUE=DURATION:PT1H
X-Robots-Tag:noindex
X-PUBLISHED-TTL:PT1H
BEGIN:VTIMEZONE
TZID:Europe/Berlin
BEGIN:DAYLIGHT
TZOFFSETFROM:+0100
TZOFFSETTO:+0200
TZNAME:CEST
DTSTART:20240331T010000
END:DAYLIGHT
BEGIN:STANDARD
TZOFFSETFROM:+0200
TZOFFSETTO:+0100
TZNAME:CET
DTSTART:20241027T010000
END:STANDARD
BEGIN:DAYLIGHT
TZOFFSETFROM:+0100
TZOFFSETTO:+0200
TZNAME:CEST
DTSTART:20250330T010000
END:DAYLIGHT
BEGIN:STANDARD
TZOFFSETFROM:+0200
TZOFFSETTO:+0100
TZNAME:CET
DTSTART:20251026T010000
END:STANDARD
BEGIN:DAYLIGHT
TZOFFSETFROM:+0100
TZOFFSETTO:+0200
TZNAME:CEST
DTSTART:20260329T010000
END:DAYLIGHT
BEGIN:STANDARD
TZOFFSETFROM:+0200
TZOFFSETTO:+0100
TZNAME:CET
DTSTART:20261025T010000
END:STANDARD
END:VTIMEZONE
BEGIN:VEVENT
DTSTART;TZID=Europe/Berlin:20251101T163000
DTEND;TZID=Europe/Berlin:20251101T183000
DTSTAMP:20260419T212920
CREATED:20251201T100226Z
LAST-MODIFIED:20251201T101654Z
UID:1037-1762014600-1762021800@handball-in-werder.de
SUMMARY:SV Fort. 50 Neubrandenburg vs. 1. Frauen
DESCRIPTION:22:22
URL:https://handball-in-werder.de/event/sv-fort-50-neubrandenburg-vs-1-frauen/
LOCATION:Webasto Arena\, Binsenwerderstr. 2\, Neubrandenburg\, 17033\, Germany
END:VEVENT
BEGIN:VEVENT
DTSTART;TZID=Europe/Berlin:20251101T183000
DTEND;TZID=Europe/Berlin:20251101T203000
DTSTAMP:20260419T212920
CREATED:20251123T163708Z
LAST-MODIFIED:20251123T165357Z
UID:971-1762021800-1762029000@handball-in-werder.de
SUMMARY:SV Warnemünde vs. 1. Männer
DESCRIPTION:30:36
URL:https://handball-in-werder.de/event/sv-warnemuende-vs-1-maenner/
LOCATION:Sporthalle Gerüstbauerring\, Gerüstbauerring\, Rostock (Groß-Klein)\, 18109\, Germany
END:VEVENT
BEGIN:VEVENT
DTSTART;TZID=Europe/Berlin:20251108T170000
DTEND;TZID=Europe/Berlin:20251108T190000
DTSTAMP:20260419T212920
CREATED:20251201T095328Z
LAST-MODIFIED:20251201T101733Z
UID:1015-1762621200-1762628400@handball-in-werder.de
SUMMARY:1. Frauen vs. Pro Sport 24 
DESCRIPTION:32:21
URL:https://handball-in-werder.de/event/1-frauen-vs-pro-sport-24/
LOCATION:Sporthalle am Ernst-Häckel-Gymnasium\, Werder (Havel)
END:VEVENT
BEGIN:VEVENT
DTSTART;TZID=Europe/Berlin:20251108T193000
DTEND;TZID=Europe/Berlin:20251108T213000
DTSTAMP:20260419T212920
CREATED:20251123T161320Z
LAST-MODIFIED:20251123T161320Z
UID:941-1762630200-1762637400@handball-in-werder.de
SUMMARY:1. Männer vs. Grünheider SV 
DESCRIPTION:36:20
URL:https://handball-in-werder.de/event/1-maenner-vs-gruenheider-sv/
LOCATION:Sporthalle am Ernst-Häckel-Gymnasium\, Werder (Havel)
END:VEVENT
BEGIN:VEVENT
DTSTART;TZID=Europe/Berlin:20251115T183000
DTEND;TZID=Europe/Berlin:20251115T203000
DTSTAMP:20260419T212920
CREATED:20251123T163826Z
LAST-MODIFIED:20251123T165456Z
UID:974-1763231400-1763238600@handball-in-werder.de
SUMMARY:BFC Preussen vs. 1. Männer
DESCRIPTION:30:34
URL:https://handball-in-werder.de/event/bfc-preussen-vs-1-maenner/
LOCATION:Kiriat-Bialik-Sporthalle\, Wedellstraße 57\, Berlin\, 12249\, Germany
END:VEVENT
BEGIN:VEVENT
DTSTART;TZID=Europe/Berlin:20251116T170000
DTEND;TZID=Europe/Berlin:20251116T190000
DTSTAMP:20260419T212920
CREATED:20251201T100352Z
LAST-MODIFIED:20251201T101810Z
UID:1040-1763312400-1763319600@handball-in-werder.de
SUMMARY:Berliner TSC vs. 1. Frauen
DESCRIPTION:24:27
URL:https://handball-in-werder.de/event/berliner-tsc-vs-1-frauen/
LOCATION:Sporthalle Paul-Heyse-Str.\, Sporthalle Paul-Heyse-Str. 25\, Berlin\, 10407\, Germany
END:VEVENT
BEGIN:VEVENT
DTSTART;TZID=Europe/Berlin:20251121T203000
DTEND;TZID=Europe/Berlin:20251121T223000
DTSTAMP:20260419T212920
CREATED:20251120T154433Z
LAST-MODIFIED:20251120T154526Z
UID:849-1763757000-1763764200@handball-in-werder.de
SUMMARY:HV Grün- Weiß Werder II vs Ludwigsfelder HC
DESCRIPTION:HVB-Pokal Männer / 2. Runde
URL:https://handball-in-werder.de/event/849/
LOCATION:Sporthalle am Ernst-Häckel-Gymnasium\, Werder (Havel)
END:VEVENT
BEGIN:VEVENT
DTSTART;TZID=Europe/Berlin:20251129T170000
DTEND;TZID=Europe/Berlin:20251129T190000
DTSTAMP:20260419T212920
CREATED:20251201T095402Z
LAST-MODIFIED:20251201T101940Z
UID:1017-1764435600-1764442800@handball-in-werder.de
SUMMARY:1. Frauen vs. SG NARVA Berlin 
DESCRIPTION:46:18
URL:https://handball-in-werder.de/event/1-frauen-vs-sg-narva-berlin/
LOCATION:Sporthalle am Ernst-Häckel-Gymnasium\, Werder (Havel)
END:VEVENT
BEGIN:VEVENT
DTSTART;TZID=Europe/Berlin:20251129T193000
DTEND;TZID=Europe/Berlin:20251129T213000
DTSTAMP:20260419T212920
CREATED:20251123T161424Z
LAST-MODIFIED:20251201T102014Z
UID:944-1764444600-1764451800@handball-in-werder.de
SUMMARY:1. Männer vs. HC Vorpommern-Greifswald 
DESCRIPTION:40:26
URL:https://handball-in-werder.de/event/1-maenner-vs-hc-vorpommern-greifswald/
LOCATION:Sporthalle am Ernst-Häckel-Gymnasium\, Werder (Havel)
END:VEVENT
END:VCALENDAR